BEGIN:VCALENDAR
VERSION:2.0
PRODID:http://www.kufer.de/kuferweb / DE
METHOD:PUBLISH
CALSCALE:GREGORIAN
X-WR-TIMEZONE:Europe/Berlin
BEGIN:VTIMEZONE
TZID:Europe/Berlin
X-LIC-LOCATION:Europe/Berlin
BEGIN:DAYLIGHT
TZOFFSETFROM:+0100
TZOFFSETTO:+0200
TZNAME:CEST
DTSTART;TZID=Europe/Berlin:19700329T020000
RRULE:FREQ=YEARLY;INTERVAL=1;BYDAY=-1SU;BYMONTH=3
END:DAYLIGHT
BEGIN:STANDARD
TZOFFSETFROM:+0200
TZOFFSETTO:+0100
TZNAME:CET
DTSTART;TZID=Europe/Berlin:19701025T030000
RRULE:FREQ=YEARLY;INTERVAL=1;BYDAY=-1SU;BYMONTH=10
END:STANDARD
END:VTIMEZONE
BEGIN:VEVENT
DTSTAMP:20260419T223208
DTSTART;TZID=Europe/Berlin:20260408T180000
DTEND;TZID=Europe/Berlin:20260408T193000
UID:N3132P5X-20260408T180000@KVHSNORTHEIM
SUMMARY:Hatha Yoga Basis (N3132P5X) 
LOCATION:Northeim, KVHS, Raum U18, Wallstr. 40, 37154 Northeim
END:VEVENT
BEGIN:VEVENT
DTSTAMP:20260419T223208
DTSTART;TZID=Europe/Berlin:20260415T180000
DTEND;TZID=Europe/Berlin:20260415T193000
UID:N3132P5X-20260415T180000@KVHSNORTHEIM
SUMMARY:Hatha Yoga Basis (N3132P5X) 
LOCATION:Northeim, KVHS, Raum U18, Wallstr. 40, 37154 Northeim
END:VEVENT
BEGIN:VEVENT
DTSTAMP:20260419T223208
DTSTART;TZID=Europe/Berlin:20260422T180000
DTEND;TZID=Europe/Berlin:20260422T193000
UID:N3132P5X-20260422T180000@KVHSNORTHEIM
SUMMARY:Hatha Yoga Basis (N3132P5X) 
LOCATION:Northeim, KVHS, Raum U18, Wallstr. 40, 37154 Northeim
END:VEVENT
BEGIN:VEVENT
DTSTAMP:20260419T223208
DTSTART;TZID=Europe/Berlin:20260429T180000
DTEND;TZID=Europe/Berlin:20260429T193000
UID:N3132P5X-20260429T180000@KVHSNORTHEIM
SUMMARY:Hatha Yoga Basis (N3132P5X) 
LOCATION:Northeim, KVHS, Raum U18, Wallstr. 40, 37154 Northeim
END:VEVENT
BEGIN:VEVENT
DTSTAMP:20260419T223208
DTSTART;TZID=Europe/Berlin:20260506T180000
DTEND;TZID=Europe/Berlin:20260506T193000
UID:N3132P5X-20260506T180000@KVHSNORTHEIM
SUMMARY:Hatha Yoga Basis (N3132P5X) 
LOCATION:Northeim, KVHS, Raum U18, Wallstr. 40, 37154 Northeim
END:VEVENT
BEGIN:VEVENT
DTSTAMP:20260419T223208
DTSTART;TZID=Europe/Berlin:20260513T180000
DTEND;TZID=Europe/Berlin:20260513T193000
UID:N3132P5X-20260513T180000@KVHSNORTHEIM
SUMMARY:Hatha Yoga Basis (N3132P5X) 
LOCATION:Northeim, KVHS, Raum U18, Wallstr. 40, 37154 Northeim
END:VEVENT
BEGIN:VEVENT
DTSTAMP:20260419T223208
DTSTART;TZID=Europe/Berlin:20260520T180000
DTEND;TZID=Europe/Berlin:20260520T193000
UID:N3132P5X-20260520T180000@KVHSNORTHEIM
SUMMARY:Hatha Yoga Basis (N3132P5X) 
LOCATION:Northeim, KVHS, Raum U18, Wallstr. 40, 37154 Northeim
END:VEVENT
BEGIN:VEVENT
DTSTAMP:20260419T223208
DTSTART;TZID=Europe/Berlin:20260527T180000
DTEND;TZID=Europe/Berlin:20260527T193000
UID:N3132P5X-20260527T180000@KVHSNORTHEIM
SUMMARY:Hatha Yoga Basis (N3132P5X) 
LOCATION:Northeim, KVHS, Raum U18, Wallstr. 40, 37154 Northeim
END:VEVENT
BEGIN:VEVENT
DTSTAMP:20260419T223208
DTSTART;TZID=Europe/Berlin:20260603T180000
DTEND;TZID=Europe/Berlin:20260603T193000
UID:N3132P5X-20260603T180000@KVHSNORTHEIM
SUMMARY:Hatha Yoga Basis (N3132P5X) 
LOCATION:Northeim, KVHS, Raum U18, Wallstr. 40, 37154 Northeim
END:VEVENT
BEGIN:VEVENT
DTSTAMP:20260419T223208
DTSTART;TZID=Europe/Berlin:20260610T180000
DTEND;TZID=Europe/Berlin:20260610T193000
UID:N3132P5X-20260610T180000@KVHSNORTHEIM
SUMMARY:Hatha Yoga Basis (N3132P5X) 
LOCATION:Northeim, KVHS, Raum U18, Wallstr. 40, 37154 Northeim
END:VEVENT
BEGIN:VEVENT
DTSTAMP:20260419T223208
DTSTART;TZID=Europe/Berlin:20260617T180000
DTEND;TZID=Europe/Berlin:20260617T193000
UID:N3132P5X-20260617T180000@KVHSNORTHEIM
SUMMARY:Hatha Yoga Basis (N3132P5X) 
LOCATION:Northeim, KVHS, Raum U18, Wallstr. 40, 37154 Northeim
END:VEVENT
BEGIN:VEVENT
DTSTAMP:20260419T223208
DTSTART;TZID=Europe/Berlin:20260624T180000
DTEND;TZID=Europe/Berlin:20260624T193000
UID:N3132P5X-20260624T180000@KVHSNORTHEIM
SUMMARY:Hatha Yoga Basis (N3132P5X) 
LOCATION:Northeim, KVHS, Raum U18, Wallstr. 40, 37154 Northeim
END:VEVENT
BEGIN:VEVENT
DTSTAMP:20260419T223208
DTSTART;TZID=Europe/Berlin:20260701T180000
DTEND;TZID=Europe/Berlin:20260701T193000
UID:N3132P5X-20260701T180000@KVHSNORTHEIM
SUMMARY:Hatha Yoga Basis (N3132P5X) 
LOCATION:Northeim, KVHS, Raum U18, Wallstr. 40, 37154 Northeim
END:VEVENT
END:VCALENDAR