BEGIN:VCALENDAR
VERSION:2.0
PRODID:http://www.kufer.de/kuferweb / DE
METHOD:PUBLISH
CALSCALE:GREGORIAN
X-WR-TIMEZONE:Europe/Berlin
BEGIN:VTIMEZONE
TZID:Europe/Berlin
X-LIC-LOCATION:Europe/Berlin
BEGIN:DAYLIGHT
TZOFFSETFROM:+0100
TZOFFSETTO:+0200
TZNAME:CEST
DTSTART;TZID=Europe/Berlin:19700329T020000
RRULE:FREQ=YEARLY;INTERVAL=1;BYDAY=-1SU;BYMONTH=3
END:DAYLIGHT
BEGIN:STANDARD
TZOFFSETFROM:+0200
TZOFFSETTO:+0100
TZNAME:CET
DTSTART;TZID=Europe/Berlin:19701025T030000
RRULE:FREQ=YEARLY;INTERVAL=1;BYDAY=-1SU;BYMONTH=10
END:STANDARD
END:VTIMEZONE
BEGIN:VEVENT
DTSTAMP:20260425T192943
DTSTART;TZID=Europe/Berlin:20260701T170000
DTEND;TZID=Europe/Berlin:20260701T180000
UID:N1600Z3K-20260701T170000@KVHSNORTHEIM
DESCRIPTION:Infotermin
SUMMARY:Qualifizierung zur Schulbegleitung (N1600Z3K) 
LOCATION:Northeim, KVHS, Raum U24, Wallstr. 40, 
END:VEVENT
BEGIN:VEVENT
DTSTAMP:20260425T192943
DTSTART;TZID=Europe/Berlin:20260820T170000
DTEND;TZID=Europe/Berlin:20260820T210000
UID:N1600Z3K-20260820T170000@KVHSNORTHEIM
SUMMARY:Qualifizierung zur Schulbegleitung (N1600Z3K) 
LOCATION:Northeim, KVHS, Raum U24, Wallstr. 40, 
END:VEVENT
BEGIN:VEVENT
DTSTAMP:20260425T192943
DTSTART;TZID=Europe/Berlin:20260822T090000
DTEND;TZID=Europe/Berlin:20260822T154500
UID:N1600Z3K-20260822T090000@KVHSNORTHEIM
SUMMARY:Qualifizierung zur Schulbegleitung (N1600Z3K) 
LOCATION:Northeim, KVHS, Raum U24, Wallstr. 40, 
END:VEVENT
BEGIN:VEVENT
DTSTAMP:20260425T192943
DTSTART;TZID=Europe/Berlin:20260917T170000
DTEND;TZID=Europe/Berlin:20260917T210000
UID:N1600Z3K-20260917T170000@KVHSNORTHEIM
SUMMARY:Qualifizierung zur Schulbegleitung (N1600Z3K) 
LOCATION:Northeim, KVHS, Raum U24, Wallstr. 40, 
END:VEVENT
BEGIN:VEVENT
DTSTAMP:20260425T192943
DTSTART;TZID=Europe/Berlin:20260926T090000
DTEND;TZID=Europe/Berlin:20260926T154500
UID:N1600Z3K-20260926T090000@KVHSNORTHEIM
SUMMARY:Qualifizierung zur Schulbegleitung (N1600Z3K) 
LOCATION:Northeim, KVHS, Raum U24, Wallstr. 40, 
END:VEVENT
BEGIN:VEVENT
DTSTAMP:20260425T192943
DTSTART;TZID=Europe/Berlin:20261008T170000
DTEND;TZID=Europe/Berlin:20261008T210000
UID:N1600Z3K-20261008T170000@KVHSNORTHEIM
SUMMARY:Qualifizierung zur Schulbegleitung (N1600Z3K) 
LOCATION:Northeim, KVHS, Raum U24, Wallstr. 40, 
END:VEVENT
BEGIN:VEVENT
DTSTAMP:20260425T192943
DTSTART;TZID=Europe/Berlin:20261119T170000
DTEND;TZID=Europe/Berlin:20261119T210000
UID:N1600Z3K-20261119T170000@KVHSNORTHEIM
SUMMARY:Qualifizierung zur Schulbegleitung (N1600Z3K) 
LOCATION:Virtueller Kursraum, , 
END:VEVENT
BEGIN:VEVENT
DTSTAMP:20260425T192943
DTSTART;TZID=Europe/Berlin:20261121T090000
DTEND;TZID=Europe/Berlin:20261121T154500
UID:N1600Z3K-20261121T090000@KVHSNORTHEIM
SUMMARY:Qualifizierung zur Schulbegleitung (N1600Z3K) 
LOCATION:Northeim, KVHS, Raum U24, Wallstr. 40, 
END:VEVENT
BEGIN:VEVENT
DTSTAMP:20260425T192943
DTSTART;TZID=Europe/Berlin:20261212T090000
DTEND;TZID=Europe/Berlin:20261212T154500
UID:N1600Z3K-20261212T090000@KVHSNORTHEIM
SUMMARY:Qualifizierung zur Schulbegleitung (N1600Z3K) 
LOCATION:Northeim, KVHS, Raum U24, Wallstr. 40, 
END:VEVENT
BEGIN:VEVENT
DTSTAMP:20260425T192943
DTSTART;TZID=Europe/Berlin:20261212T090000
DTEND;TZID=Europe/Berlin:20261212T154500
UID:N1600Z3K-20261212T090000@KVHSNORTHEIM
SUMMARY:Qualifizierung zur Schulbegleitung (N1600Z3K) 
LOCATION:Northeim, KVHS, Raum U24, Wallstr. 40, 
END:VEVENT
BEGIN:VEVENT
DTSTAMP:20260425T192943
DTSTART;TZID=Europe/Berlin:20261217T170000
DTEND;TZID=Europe/Berlin:20261217T210000
UID:N1600Z3K-20261217T170000@KVHSNORTHEIM
SUMMARY:Qualifizierung zur Schulbegleitung (N1600Z3K) 
LOCATION:Northeim, KVHS, Raum U24, Wallstr. 40, 
END:VEVENT
BEGIN:VEVENT
DTSTAMP:20260425T192943
DTSTART;TZID=Europe/Berlin:20270114T170000
DTEND;TZID=Europe/Berlin:20270114T210000
UID:N1600Z3K-20270114T170000@KVHSNORTHEIM
SUMMARY:Qualifizierung zur Schulbegleitung (N1600Z3K) 
LOCATION:Virtueller Kursraum, , 
END:VEVENT
BEGIN:VEVENT
DTSTAMP:20260425T192943
DTSTART;TZID=Europe/Berlin:20270116T090000
DTEND;TZID=Europe/Berlin:20270116T154500
UID:N1600Z3K-20270116T090000@KVHSNORTHEIM
SUMMARY:Qualifizierung zur Schulbegleitung (N1600Z3K) 
LOCATION:Northeim, KVHS, Raum U24, Wallstr. 40, 
END:VEVENT
BEGIN:VEVENT
DTSTAMP:20260425T192943
DTSTART;TZID=Europe/Berlin:20270204T170000
DTEND;TZID=Europe/Berlin:20270204T210000
UID:N1600Z3K-20270204T170000@KVHSNORTHEIM
SUMMARY:Qualifizierung zur Schulbegleitung (N1600Z3K) 
LOCATION:Virtueller Kursraum, , 
END:VEVENT
BEGIN:VEVENT
DTSTAMP:20260425T192943
DTSTART;TZID=Europe/Berlin:20270206T090000
DTEND;TZID=Europe/Berlin:20270206T154500
UID:N1600Z3K-20270206T090000@KVHSNORTHEIM
SUMMARY:Qualifizierung zur Schulbegleitung (N1600Z3K) 
LOCATION:Northeim, KVHS, Raum U24, Wallstr. 40, 
END:VEVENT
BEGIN:VEVENT
DTSTAMP:20260425T192943
DTSTART;TZID=Europe/Berlin:20270304T170000
DTEND;TZID=Europe/Berlin:20270304T210000
UID:N1600Z3K-20270304T170000@KVHSNORTHEIM
SUMMARY:Qualifizierung zur Schulbegleitung (N1600Z3K) 
LOCATION:Virtueller Kursraum, , 
END:VEVENT
BEGIN:VEVENT
DTSTAMP:20260425T192943
DTSTART;TZID=Europe/Berlin:20270306T090000
DTEND;TZID=Europe/Berlin:20270306T154500
UID:N1600Z3K-20270306T090000@KVHSNORTHEIM
SUMMARY:Qualifizierung zur Schulbegleitung (N1600Z3K) 
LOCATION:Northeim, KVHS, Raum U24, Wallstr. 40, 
END:VEVENT
BEGIN:VEVENT
DTSTAMP:20260425T192943
DTSTART;TZID=Europe/Berlin:20270408T170000
DTEND;TZID=Europe/Berlin:20270408T183000
UID:N1600Z3K-20270408T170000@KVHSNORTHEIM
SUMMARY:Qualifizierung zur Schulbegleitung (N1600Z3K) 
LOCATION:Northeim, KVHS, Raum U24, Wallstr. 40, 
END:VEVENT
BEGIN:VEVENT
DTSTAMP:20260425T192943
DTSTART;TZID=Europe/Berlin:20270408T170000
DTEND;TZID=Europe/Berlin:20270408T183000
UID:N1600Z3K-20270408T170000@KVHSNORTHEIM
SUMMARY:Qualifizierung zur Schulbegleitung (N1600Z3K) 
LOCATION:Northeim, KVHS, Raum U24, Wallstr. 40, 
END:VEVENT
BEGIN:VEVENT
DTSTAMP:20260425T192943
DTSTART;TZID=Europe/Berlin:20270408T183000
DTEND;TZID=Europe/Berlin:20270408T210000
UID:N1600Z3K-20270408T183000@KVHSNORTHEIM
SUMMARY:Qualifizierung zur Schulbegleitung (N1600Z3K) 
LOCATION:Northeim, KVHS, Raum U24, Wallstr. 40, 
END:VEVENT
BEGIN:VEVENT
DTSTAMP:20260425T192943
DTSTART;TZID=Europe/Berlin:20270410T090000
DTEND;TZID=Europe/Berlin:20270410T154500
UID:N1600Z3K-20270410T090000@KVHSNORTHEIM
SUMMARY:Qualifizierung zur Schulbegleitung (N1600Z3K) 
LOCATION:Northeim, KVHS, Raum U24, Wallstr. 40, 
END:VEVENT
BEGIN:VEVENT
DTSTAMP:20260425T192943
DTSTART;TZID=Europe/Berlin:20270422T170000
DTEND;TZID=Europe/Berlin:20270422T210000
UID:N1600Z3K-20270422T170000@KVHSNORTHEIM
SUMMARY:Qualifizierung zur Schulbegleitung (N1600Z3K) 
LOCATION:Northeim, KVHS, Raum U24, Wallstr. 40, 
END:VEVENT
BEGIN:VEVENT
DTSTAMP:20260425T192943
DTSTART;TZID=Europe/Berlin:20270520T170000
DTEND;TZID=Europe/Berlin:20270520T210000
UID:N1600Z3K-20270520T170000@KVHSNORTHEIM
SUMMARY:Qualifizierung zur Schulbegleitung (N1600Z3K) 
LOCATION:Virtueller Kursraum, , 
END:VEVENT
BEGIN:VEVENT
DTSTAMP:20260425T192943
DTSTART;TZID=Europe/Berlin:20270522T090000
DTEND;TZID=Europe/Berlin:20270522T141500
UID:N1600Z3K-20270522T090000@KVHSNORTHEIM
SUMMARY:Qualifizierung zur Schulbegleitung (N1600Z3K) 
LOCATION:Northeim, KVHS, Raum U24, Wallstr. 40, 
END:VEVENT
BEGIN:VEVENT
DTSTAMP:20260425T192943
DTSTART;TZID=Europe/Berlin:20270529T100000
DTEND;TZID=Europe/Berlin:20270529T160000
UID:N1600Z3K-20270529T100000@KVHSNORTHEIM
DESCRIPTION:Abschlusskolloquium
SUMMARY:Qualifizierung zur Schulbegleitung (N1600Z3K) 
LOCATION:Northeim, KVHS, Raum U24, Wallstr. 40, 
END:VEVENT
END:VCALENDAR