BEGIN:VCALENDAR
VERSION:2.0
PRODID:http://www.kufer.de/kuferweb / DE
METHOD:PUBLISH
CALSCALE:GREGORIAN
X-WR-TIMEZONE:Europe/Berlin
BEGIN:VTIMEZONE
TZID:Europe/Berlin
X-LIC-LOCATION:Europe/Berlin
BEGIN:DAYLIGHT
TZOFFSETFROM:+0100
TZOFFSETTO:+0200
TZNAME:CEST
DTSTART;TZID=Europe/Berlin:19700329T020000
RRULE:FREQ=YEARLY;INTERVAL=1;BYDAY=-1SU;BYMONTH=3
END:DAYLIGHT
BEGIN:STANDARD
TZOFFSETFROM:+0200
TZOFFSETTO:+0100
TZNAME:CET
DTSTART;TZID=Europe/Berlin:19701025T030000
RRULE:FREQ=YEARLY;INTERVAL=1;BYDAY=-1SU;BYMONTH=10
END:STANDARD
END:VTIMEZONE
BEGIN:VEVENT
DTSTAMP:20260423T225739
DTSTART;TZID=Europe/Berlin:20260206T140000
DTEND;TZID=Europe/Berlin:20260206T180000
UID:N1032U8-20260206T140000@KVHSNORTHEIM
SUMMARY:Filzen für Menschen mit Behinderung (N1032U8) 
LOCATION:Uslar, KVHS-Haus, Raum 3, Gerhart-Hauptmann-Str. 10, 37170 Uslar
END:VEVENT
BEGIN:VEVENT
DTSTAMP:20260423T225739
DTSTART;TZID=Europe/Berlin:20260207T100000
DTEND;TZID=Europe/Berlin:20260207T160000
UID:N1032U8-20260207T100000@KVHSNORTHEIM
SUMMARY:Filzen für Menschen mit Behinderung (N1032U8) 
LOCATION:Uslar, KVHS-Haus, Raum 3, Gerhart-Hauptmann-Str. 10, 37170 Uslar
END:VEVENT
BEGIN:VEVENT
DTSTAMP:20260423T225739
DTSTART;TZID=Europe/Berlin:20260306T140000
DTEND;TZID=Europe/Berlin:20260306T180000
UID:N1032U8-20260306T140000@KVHSNORTHEIM
SUMMARY:Filzen für Menschen mit Behinderung (N1032U8) 
LOCATION:Uslar, KVHS-Haus, Raum 3, Gerhart-Hauptmann-Str. 10, 37170 Uslar
END:VEVENT
BEGIN:VEVENT
DTSTAMP:20260423T225739
DTSTART;TZID=Europe/Berlin:20260307T100000
DTEND;TZID=Europe/Berlin:20260307T160000
UID:N1032U8-20260307T100000@KVHSNORTHEIM
SUMMARY:Filzen für Menschen mit Behinderung (N1032U8) 
LOCATION:Uslar, KVHS-Haus, Raum 3, Gerhart-Hauptmann-Str. 10, 37170 Uslar
END:VEVENT
BEGIN:VEVENT
DTSTAMP:20260423T225739
DTSTART;TZID=Europe/Berlin:20260417T140000
DTEND;TZID=Europe/Berlin:20260417T180000
UID:N1032U8-20260417T140000@KVHSNORTHEIM
SUMMARY:Filzen für Menschen mit Behinderung (N1032U8) 
LOCATION:Uslar, KVHS-Haus, Raum 3, Gerhart-Hauptmann-Str. 10, 37170 Uslar
END:VEVENT
BEGIN:VEVENT
DTSTAMP:20260423T225739
DTSTART;TZID=Europe/Berlin:20260418T100000
DTEND;TZID=Europe/Berlin:20260418T160000
UID:N1032U8-20260418T100000@KVHSNORTHEIM
SUMMARY:Filzen für Menschen mit Behinderung (N1032U8) 
LOCATION:Uslar, KVHS-Haus, Raum 3, Gerhart-Hauptmann-Str. 10, 37170 Uslar
END:VEVENT
BEGIN:VEVENT
DTSTAMP:20260423T225739
DTSTART;TZID=Europe/Berlin:20260529T140000
DTEND;TZID=Europe/Berlin:20260529T180000
UID:N1032U8-20260529T140000@KVHSNORTHEIM
SUMMARY:Filzen für Menschen mit Behinderung (N1032U8) 
LOCATION:Uslar, KVHS-Haus, Raum 3, Gerhart-Hauptmann-Str. 10, 37170 Uslar
END:VEVENT
BEGIN:VEVENT
DTSTAMP:20260423T225739
DTSTART;TZID=Europe/Berlin:20260530T100000
DTEND;TZID=Europe/Berlin:20260530T160000
UID:N1032U8-20260530T100000@KVHSNORTHEIM
SUMMARY:Filzen für Menschen mit Behinderung (N1032U8) 
LOCATION:Uslar, KVHS-Haus, Raum 3, Gerhart-Hauptmann-Str. 10, 37170 Uslar
END:VEVENT
BEGIN:VEVENT
DTSTAMP:20260423T225739
DTSTART;TZID=Europe/Berlin:20260619T140000
DTEND;TZID=Europe/Berlin:20260619T180000
UID:N1032U8-20260619T140000@KVHSNORTHEIM
SUMMARY:Filzen für Menschen mit Behinderung (N1032U8) 
LOCATION:Uslar, KVHS-Haus, Raum 3, Gerhart-Hauptmann-Str. 10, 37170 Uslar
END:VEVENT
BEGIN:VEVENT
DTSTAMP:20260423T225739
DTSTART;TZID=Europe/Berlin:20260620T100000
DTEND;TZID=Europe/Berlin:20260620T160000
UID:N1032U8-20260620T100000@KVHSNORTHEIM
SUMMARY:Filzen für Menschen mit Behinderung (N1032U8) 
LOCATION:Uslar, KVHS-Haus, Raum 3, Gerhart-Hauptmann-Str. 10, 37170 Uslar
END:VEVENT
BEGIN:VEVENT
DTSTAMP:20260423T225739
DTSTART;TZID=Europe/Berlin:20260710T140000
DTEND;TZID=Europe/Berlin:20260710T180000
UID:N1032U8-20260710T140000@KVHSNORTHEIM
SUMMARY:Filzen für Menschen mit Behinderung (N1032U8) 
LOCATION:Uslar, KVHS-Haus, Raum 3, Gerhart-Hauptmann-Str. 10, 37170 Uslar
END:VEVENT
BEGIN:VEVENT
DTSTAMP:20260423T225739
DTSTART;TZID=Europe/Berlin:20260711T100000
DTEND;TZID=Europe/Berlin:20260711T160000
UID:N1032U8-20260711T100000@KVHSNORTHEIM
SUMMARY:Filzen für Menschen mit Behinderung (N1032U8) 
LOCATION:Uslar, KVHS-Haus, Raum 3, Gerhart-Hauptmann-Str. 10, 37170 Uslar
END:VEVENT
END:VCALENDAR