BEGIN:VCALENDAR
VERSION:2.0
PRODID:http://www.kufer.de/kuferweb / DE
METHOD:PUBLISH
CALSCALE:GREGORIAN
X-WR-TIMEZONE:Europe/Berlin
BEGIN:VTIMEZONE
TZID:Europe/Berlin
X-LIC-LOCATION:Europe/Berlin
BEGIN:DAYLIGHT
TZOFFSETFROM:+0100
TZOFFSETTO:+0200
TZNAME:CEST
DTSTART;TZID=Europe/Berlin:19700329T020000
RRULE:FREQ=YEARLY;INTERVAL=1;BYDAY=-1SU;BYMONTH=3
END:DAYLIGHT
BEGIN:STANDARD
TZOFFSETFROM:+0200
TZOFFSETTO:+0100
TZNAME:CET
DTSTART;TZID=Europe/Berlin:19701025T030000
RRULE:FREQ=YEARLY;INTERVAL=1;BYDAY=-1SU;BYMONTH=10
END:STANDARD
END:VTIMEZONE
BEGIN:VEVENT
DTSTAMP:20260421T191506
DTSTART;TZID=Europe/Berlin:20260421T083000
DTEND;TZID=Europe/Berlin:20260421T114500
UID:IK-104NOM3-20260421T083000@KVHSNORTHEIM
SUMMARY:Integrationskurs - Alpha Wiederholerkurs Modul 12 (IK-104NOM3) 
LOCATION:Northeim, KVHS, Raum 0.12, Wallstr. 40, 37154 Northeim
END:VEVENT
BEGIN:VEVENT
DTSTAMP:20260421T191506
DTSTART;TZID=Europe/Berlin:20260422T083000
DTEND;TZID=Europe/Berlin:20260422T114500
UID:IK-104NOM3-20260422T083000@KVHSNORTHEIM
SUMMARY:Integrationskurs - Alpha Wiederholerkurs Modul 12 (IK-104NOM3) 
LOCATION:Northeim, KVHS, Raum 0.12, Wallstr. 40, 37154 Northeim
END:VEVENT
BEGIN:VEVENT
DTSTAMP:20260421T191506
DTSTART;TZID=Europe/Berlin:20260423T083000
DTEND;TZID=Europe/Berlin:20260423T114500
UID:IK-104NOM3-20260423T083000@KVHSNORTHEIM
SUMMARY:Integrationskurs - Alpha Wiederholerkurs Modul 12 (IK-104NOM3) 
LOCATION:Northeim, KVHS, Raum 0.12, Wallstr. 40, 37154 Northeim
END:VEVENT
BEGIN:VEVENT
DTSTAMP:20260421T191506
DTSTART;TZID=Europe/Berlin:20260424T083000
DTEND;TZID=Europe/Berlin:20260424T114500
UID:IK-104NOM3-20260424T083000@KVHSNORTHEIM
SUMMARY:Integrationskurs - Alpha Wiederholerkurs Modul 12 (IK-104NOM3) 
LOCATION:Northeim, KVHS, Raum 0.12, Wallstr. 40, 37154 Northeim
END:VEVENT
BEGIN:VEVENT
DTSTAMP:20260421T191506
DTSTART;TZID=Europe/Berlin:20260427T083000
DTEND;TZID=Europe/Berlin:20260427T114500
UID:IK-104NOM3-20260427T083000@KVHSNORTHEIM
SUMMARY:Integrationskurs - Alpha Wiederholerkurs Modul 12 (IK-104NOM3) 
LOCATION:Northeim, KVHS, Raum 0.12, Wallstr. 40, 37154 Northeim
END:VEVENT
BEGIN:VEVENT
DTSTAMP:20260421T191506
DTSTART;TZID=Europe/Berlin:20260428T083000
DTEND;TZID=Europe/Berlin:20260428T114500
UID:IK-104NOM3-20260428T083000@KVHSNORTHEIM
SUMMARY:Integrationskurs - Alpha Wiederholerkurs Modul 12 (IK-104NOM3) 
LOCATION:Northeim, KVHS, Raum 0.12, Wallstr. 40, 37154 Northeim
END:VEVENT
BEGIN:VEVENT
DTSTAMP:20260421T191506
DTSTART;TZID=Europe/Berlin:20260429T083000
DTEND;TZID=Europe/Berlin:20260429T114500
UID:IK-104NOM3-20260429T083000@KVHSNORTHEIM
SUMMARY:Integrationskurs - Alpha Wiederholerkurs Modul 12 (IK-104NOM3) 
LOCATION:Northeim, KVHS, Raum 0.12, Wallstr. 40, 37154 Northeim
END:VEVENT
BEGIN:VEVENT
DTSTAMP:20260421T191506
DTSTART;TZID=Europe/Berlin:20260430T083000
DTEND;TZID=Europe/Berlin:20260430T114500
UID:IK-104NOM3-20260430T083000@KVHSNORTHEIM
SUMMARY:Integrationskurs - Alpha Wiederholerkurs Modul 12 (IK-104NOM3) 
LOCATION:Northeim, KVHS, Raum 0.12, Wallstr. 40, 37154 Northeim
END:VEVENT
BEGIN:VEVENT
DTSTAMP:20260421T191506
DTSTART;TZID=Europe/Berlin:20260504T083000
DTEND;TZID=Europe/Berlin:20260504T114500
UID:IK-104NOM3-20260504T083000@KVHSNORTHEIM
SUMMARY:Integrationskurs - Alpha Wiederholerkurs Modul 12 (IK-104NOM3) 
LOCATION:Northeim, KVHS, Raum 0.12, Wallstr. 40, 37154 Northeim
END:VEVENT
BEGIN:VEVENT
DTSTAMP:20260421T191506
DTSTART;TZID=Europe/Berlin:20260505T083000
DTEND;TZID=Europe/Berlin:20260505T114500
UID:IK-104NOM3-20260505T083000@KVHSNORTHEIM
SUMMARY:Integrationskurs - Alpha Wiederholerkurs Modul 12 (IK-104NOM3) 
LOCATION:Northeim, KVHS, Raum 0.12, Wallstr. 40, 37154 Northeim
END:VEVENT
BEGIN:VEVENT
DTSTAMP:20260421T191506
DTSTART;TZID=Europe/Berlin:20260506T083000
DTEND;TZID=Europe/Berlin:20260506T114500
UID:IK-104NOM3-20260506T083000@KVHSNORTHEIM
SUMMARY:Integrationskurs - Alpha Wiederholerkurs Modul 12 (IK-104NOM3) 
LOCATION:Northeim, KVHS, Raum 0.12, Wallstr. 40, 37154 Northeim
END:VEVENT
BEGIN:VEVENT
DTSTAMP:20260421T191506
DTSTART;TZID=Europe/Berlin:20260507T083000
DTEND;TZID=Europe/Berlin:20260507T114500
UID:IK-104NOM3-20260507T083000@KVHSNORTHEIM
SUMMARY:Integrationskurs - Alpha Wiederholerkurs Modul 12 (IK-104NOM3) 
LOCATION:Northeim, KVHS, Raum 0.12, Wallstr. 40, 37154 Northeim
END:VEVENT
BEGIN:VEVENT
DTSTAMP:20260421T191506
DTSTART;TZID=Europe/Berlin:20260512T083000
DTEND;TZID=Europe/Berlin:20260512T114500
UID:IK-104NOM3-20260512T083000@KVHSNORTHEIM
SUMMARY:Integrationskurs - Alpha Wiederholerkurs Modul 12 (IK-104NOM3) 
LOCATION:Northeim, KVHS, Raum 0.12, Wallstr. 40, 37154 Northeim
END:VEVENT
BEGIN:VEVENT
DTSTAMP:20260421T191506
DTSTART;TZID=Europe/Berlin:20260513T083000
DTEND;TZID=Europe/Berlin:20260513T114500
UID:IK-104NOM3-20260513T083000@KVHSNORTHEIM
SUMMARY:Integrationskurs - Alpha Wiederholerkurs Modul 12 (IK-104NOM3) 
LOCATION:Northeim, KVHS, Raum 0.12, Wallstr. 40, 37154 Northeim
END:VEVENT
BEGIN:VEVENT
DTSTAMP:20260421T191506
DTSTART;TZID=Europe/Berlin:20260518T083000
DTEND;TZID=Europe/Berlin:20260518T114500
UID:IK-104NOM3-20260518T083000@KVHSNORTHEIM
SUMMARY:Integrationskurs - Alpha Wiederholerkurs Modul 12 (IK-104NOM3) 
LOCATION:Northeim, KVHS, Raum 0.12, Wallstr. 40, 37154 Northeim
END:VEVENT
BEGIN:VEVENT
DTSTAMP:20260421T191506
DTSTART;TZID=Europe/Berlin:20260519T083000
DTEND;TZID=Europe/Berlin:20260519T114500
UID:IK-104NOM3-20260519T083000@KVHSNORTHEIM
SUMMARY:Integrationskurs - Alpha Wiederholerkurs Modul 12 (IK-104NOM3) 
LOCATION:Northeim, KVHS, Raum 0.12, Wallstr. 40, 37154 Northeim
END:VEVENT
BEGIN:VEVENT
DTSTAMP:20260421T191506
DTSTART;TZID=Europe/Berlin:20260520T083000
DTEND;TZID=Europe/Berlin:20260520T114500
UID:IK-104NOM3-20260520T083000@KVHSNORTHEIM
SUMMARY:Integrationskurs - Alpha Wiederholerkurs Modul 12 (IK-104NOM3) 
LOCATION:Northeim, KVHS, Raum 0.12, Wallstr. 40, 37154 Northeim
END:VEVENT
BEGIN:VEVENT
DTSTAMP:20260421T191506
DTSTART;TZID=Europe/Berlin:20260521T083000
DTEND;TZID=Europe/Berlin:20260521T114500
UID:IK-104NOM3-20260521T083000@KVHSNORTHEIM
SUMMARY:Integrationskurs - Alpha Wiederholerkurs Modul 12 (IK-104NOM3) 
LOCATION:Northeim, KVHS, Raum 0.12, Wallstr. 40, 37154 Northeim
END:VEVENT
BEGIN:VEVENT
DTSTAMP:20260421T191506
DTSTART;TZID=Europe/Berlin:20260522T083000
DTEND;TZID=Europe/Berlin:20260522T114500
UID:IK-104NOM3-20260522T083000@KVHSNORTHEIM
SUMMARY:Integrationskurs - Alpha Wiederholerkurs Modul 12 (IK-104NOM3) 
LOCATION:Northeim, KVHS, Raum 0.12, Wallstr. 40, 37154 Northeim
END:VEVENT
BEGIN:VEVENT
DTSTAMP:20260421T191506
DTSTART;TZID=Europe/Berlin:20260525T083000
DTEND;TZID=Europe/Berlin:20260525T114500
UID:IK-104NOM3-20260525T083000@KVHSNORTHEIM
SUMMARY:Integrationskurs - Alpha Wiederholerkurs Modul 12 (IK-104NOM3) 
LOCATION:Northeim, KVHS, Raum 0.12, Wallstr. 40, 37154 Northeim
END:VEVENT
BEGIN:VEVENT
DTSTAMP:20260421T191506
DTSTART;TZID=Europe/Berlin:20260526T083000
DTEND;TZID=Europe/Berlin:20260526T114500
UID:IK-104NOM3-20260526T083000@KVHSNORTHEIM
SUMMARY:Integrationskurs - Alpha Wiederholerkurs Modul 12 (IK-104NOM3) 
LOCATION:Northeim, KVHS, Raum 0.12, Wallstr. 40, 37154 Northeim
END:VEVENT
BEGIN:VEVENT
DTSTAMP:20260421T191506
DTSTART;TZID=Europe/Berlin:20260527T083000
DTEND;TZID=Europe/Berlin:20260527T114500
UID:IK-104NOM3-20260527T083000@KVHSNORTHEIM
SUMMARY:Integrationskurs - Alpha Wiederholerkurs Modul 12 (IK-104NOM3) 
LOCATION:Northeim, KVHS, Raum 0.12, Wallstr. 40, 37154 Northeim
END:VEVENT
BEGIN:VEVENT
DTSTAMP:20260421T191506
DTSTART;TZID=Europe/Berlin:20260528T083000
DTEND;TZID=Europe/Berlin:20260528T114500
UID:IK-104NOM3-20260528T083000@KVHSNORTHEIM
SUMMARY:Integrationskurs - Alpha Wiederholerkurs Modul 12 (IK-104NOM3) 
LOCATION:Northeim, KVHS, Raum 0.12, Wallstr. 40, 37154 Northeim
END:VEVENT
BEGIN:VEVENT
DTSTAMP:20260421T191506
DTSTART;TZID=Europe/Berlin:20260529T083000
DTEND;TZID=Europe/Berlin:20260529T114500
UID:IK-104NOM3-20260529T083000@KVHSNORTHEIM
SUMMARY:Integrationskurs - Alpha Wiederholerkurs Modul 12 (IK-104NOM3) 
LOCATION:Northeim, KVHS, Raum 0.12, Wallstr. 40, 37154 Northeim
END:VEVENT
BEGIN:VEVENT
DTSTAMP:20260421T191506
DTSTART;TZID=Europe/Berlin:20260601T083000
DTEND;TZID=Europe/Berlin:20260601T114500
UID:IK-104NOM3-20260601T083000@KVHSNORTHEIM
SUMMARY:Integrationskurs - Alpha Wiederholerkurs Modul 12 (IK-104NOM3) 
LOCATION:Northeim, KVHS, Raum 0.12, Wallstr. 40, 37154 Northeim
END:VEVENT
END:VCALENDAR